BEGIN:VCALENDAR
VERSION:2.0
PRODID:-//ChamberMaster//Event Calendar 2.0//EN
METHOD:PUBLISH
X-PUBLISHED-TTL:P3D
REFRESH-INTERVAL:P3D
CALSCALE:GREGORIAN
BEGIN:VEVENT
DTSTART:20260615T150000Z
DTEND:20260618T210000Z
X-MICROSOFT-CDO-ALLDAYEVENT:FALSE
SUMMARY:STEAM Camp
DESCRIPTION:Students are invited to think bigger and create boldly at this summer's STEAM camp. Designed for students entering grades 4-6\, this hands-on camp brings Science\, Technology\, Engineering\, Art\, and Math to life through engaging projects and real-world challenges. This camp will utilize the new Makerspace while also exploring nature and environmental conservation outdoors. Days of '76 Museum\; 9:00 a.m. to 3:00 p.m.\; $55 plus tax for members and $60 for non-members plus tax. A 50% advance deposit is required for registration. Space is limited and reservations are required. Scholarships are available. Call Education Director Tera Richards at 605-578-1657 for reservations or questions about the program.
X-ALT-DESC;FMTTYPE=text/html:Students are invited to think bigger and create boldly at this summer&#39\;s STEAM camp. Designed for students entering grades 4-6\, this hands-on camp brings Science\, Technology\, Engineering\, Art\, and Math to life through engaging projects and real-world challenges. This camp will utilize the new Makerspace while also exploring nature and environmental conservation outdoors.&nbsp\;Days of &#39\;76 Museum\; 9:00 a.m. to 3:00 p.m.\; $55 plus tax for members and $60 for non-members plus tax. A 50% advance deposit is required for registration. Space is limited and reservations are required. Scholarships are available. Call Education Director Tera Richards at 605-578-1657 for reservations or questions about the program.
LOCATION:Days of '76 Museum
UID:e.2529.35083
SEQUENCE:3
DTSTAMP:20260422T084547Z
URL:https://business.leadmethere.org/events/details/steam-camp-35083
END:VEVENT

END:VCALENDAR
