BEGIN:VCALENDAR
VERSION:2.0
PRODID:-//ChamberMaster//Event Calendar 2.0//EN
METHOD:PUBLISH
X-PUBLISHED-TTL:P3D
REFRESH-INTERVAL:P3D
CALSCALE:GREGORIAN
BEGIN:VEVENT
DTSTART:20260619T010000Z
DTEND:20260619T020000Z
X-MICROSOFT-CDO-ALLDAYEVENT:FALSE
SUMMARY:Northern Hills Community Band Concert
DESCRIPTION:Break out the red\, white\, and blue for an evening with the Northern Hills Community Band. Enjoy lively patriotic favorites\, stirring marches\, and beloved show tunes performed on the lawn of the Historic Adams House. The concert begins at 7:00 p.m.\, with admission by donation. In case of inclement weather\, the performance will move to the Homestake Adams Research and Cultural Center (HARCC).
X-ALT-DESC;FMTTYPE=text/html:Break out the red\, white\, and blue for an evening with the Northern Hills Community Band. Enjoy lively patriotic favorites\, stirring marches\, and beloved show tunes performed on the lawn of the Historic Adams House. The concert begins at 7:00 p.m.\, with admission by donation. In case of inclement weather\, the performance will move to the Homestake Adams Research and Cultural Center (HARCC).
LOCATION:Homestake Adams Research and Cultural Center (HARCC)
UID:e.2529.35084
SEQUENCE:3
DTSTAMP:20260422T174852Z
URL:https://business.leadmethere.org/events/details/northern-hills-community-band-concert-06-18-2026-35084
END:VEVENT

END:VCALENDAR
