BEGIN:VCALENDAR
VERSION:2.0
PRODID:-//ChamberMaster//Event Calendar 2.0//EN
METHOD:PUBLISH
X-PUBLISHED-TTL:P3D
REFRESH-INTERVAL:P3D
CALSCALE:GREGORIAN
BEGIN:VEVENT
DTSTART:20260703T010000Z
DTEND:20260703T030000Z
X-MICROSOFT-CDO-ALLDAYEVENT:FALSE
SUMMARY:More Than Gold
DESCRIPTION:Written by Lead residents Terrence Smith and Todd Jones in celebration of Lead's 150th Celebration? SYNPOSIS: From the first whisper of gold in the Black Hills to the quiet hum of underground discovery\, More Than Gold is a sweeping\, music-infused theatrical journey through the history of Lead\, South Dakota a town shaped as much by its people as by the riches beneath their feet. Told through a series of stories woven across generations\, the play traces the rise of the Homestake Mining Company\, the struggles and triumphs of those who lived and labored there\, and the evolving identity of a community built on resilience. As prospectors stake their claims\, families take root\, and industry transforms the landscape\, Lead becomes more than a mining town\; it becomes a reflection of the human spirit. Through moments of conflict\, hope\, loss\, and reinvention from labor disputes and suffrage movements to war\, epidemic\, and eventual closure the people of Lead are continually asked the same question: Who are we when the thing that defined us is gone? Blending live music written over the last 150 years in Lead\, South Dakota\, lyrical storytelling\, and an ensemble cast portraying multiple roles\, More Than Gold honors the past while looking toward the future. As the mine gives way to scientific discovery deep beneath the earth\, the story of Lead continues\, not as something lost\, but as something transformed. In the end\, More Than Gold is not just about what was taken from the ground. It is about what was built above it\, and what remains when everything changes.
X-ALT-DESC;FMTTYPE=text/html:Written by Lead residents Terrence Smith and Todd Jones in celebration of Lead&#39\;s 150th Celebration? SYNPOSIS:&nbsp\;From the first whisper of gold in the Black Hills to the quiet hum of underground discovery\, More Than Gold is a sweeping\, music-infused theatrical journey through the history of Lead\, South Dakota&mdash\;a town shaped as much by its people as by the riches beneath their feet. Told through a series of stories woven across generations\, the play traces the rise of the Homestake Mining Company\, the struggles and triumphs of those who lived and labored there\, and the evolving identity of a community built on resilience. As prospectors stake their claims\, families take root\, and industry transforms the landscape\, Lead becomes more than a mining town\; it becomes a reflection of the human spirit. Through moments of conflict\, hope\, loss\, and reinvention&mdash\;from labor disputes and suffrage movements to war\, epidemic\, and eventual closure&mdash\;the people of Lead are continually asked the same question: Who are we when the thing that defined us is gone? Blending live music written over the last 150 years in Lead\, South Dakota\, lyrical storytelling\, and an ensemble cast portraying multiple roles\, More Than Gold honors the past while looking toward the future. As the mine gives way to scientific discovery deep beneath the earth\, the story of Lead continues\, not as something lost\, but as something transformed. In the end\, More Than Gold is not just about what was taken from the ground. It is about what was built above it\, and what remains when everything changes.
LOCATION:Homestake Opera House 313 W. Main Street Lead\, SD 57754
UID:e.2529.35074
SEQUENCE:3
DTSTAMP:20260422T174720Z
URL:https://business.leadmethere.org/events/details/more-than-gold-35074
END:VEVENT

END:VCALENDAR
