BEGIN:VCALENDAR
VERSION:2.0
PRODID:-//ChamberMaster//Event Calendar 2.0//EN
METHOD:PUBLISH
X-PUBLISHED-TTL:P3D
REFRESH-INTERVAL:P3D
CALSCALE:GREGORIAN
BEGIN:VEVENT
DTSTART:20260502T160000Z
DTEND:20260502T220000Z
X-MICROSOFT-CDO-ALLDAYEVENT:FALSE
SUMMARY:Miners' Tin Cup - Reopening
DESCRIPTION:We are excited to share that Miners' Tin Cup is reopening in a new space at 211 West Main Street on Saturday\, May 2nd and it's bringing something fresh and creative with it!  The space will now feature Ammertte's Art Studio & Gallery\, along with a selection of unique collectibles. You'll also find works from other talented artists on display\, including a New York-based printmaker.  Ammy has just returned from an incredible 14-month stay in New York City\, where she studied at the prestigious Art Students League of NYC\, completing an impressive  860 hours of classes. While there\, she participated in two art shows including a solo exhibit in Harlem featuring 29 pieces. Another show is already in the works for this fall.  Stop by\, say hello\, and hear firsthand about her inspiring journey!
X-ALT-DESC;FMTTYPE=text/html:<span style="font-size: 16px\; caret-color: rgb(32\, 32\, 32)\; color: rgb(32\, 32\, 32)\; font-family: Helvetica\;">We are excited to share that&nbsp\;</span><strong style="font-size: 16px\; caret-color: rgb(32\, 32\, 32)\; color: rgb(32\, 32\, 32)\; font-family: Helvetica\;">Miners&rsquo\; Tin Cup</strong><span style="font-size: 16px\; caret-color: rgb(32\, 32\, 32)\; color: rgb(32\, 32\, 32)\; font-family: Helvetica\;">&nbsp\;is reopening in a new space at&nbsp\;</span><strong style="font-size: 16px\; caret-color: rgb(32\, 32\, 32)\; color: rgb(32\, 32\, 32)\; font-family: Helvetica\;">211 West Main Street</strong><span style="font-size: 16px\; caret-color: rgb(32\, 32\, 32)\; color: rgb(32\, 32\, 32)\; font-family: Helvetica\;">&nbsp\;on&nbsp\;</span><strong style="font-size: 16px\; caret-color: rgb(32\, 32\, 32)\; color: rgb(32\, 32\, 32)\; font-family: Helvetica\;">Saturday\, May 2nd</strong><span style="font-size: 16px\; caret-color: rgb(32\, 32\, 32)\; color: rgb(32\, 32\, 32)\; font-family: Helvetica\;">&mdash\;and it&rsquo\;s bringing something fresh and creative with it! &nbsp\;The space will now feature&nbsp\;</span><strong style="font-size: 16px\; caret-color: rgb(32\, 32\, 32)\; color: rgb(32\, 32\, 32)\; font-family: Helvetica\;">Ammertte&rsquo\;s Art Studio &amp\; Gallery</strong><span style="font-size: 16px\; caret-color: rgb(32\, 32\, 32)\; color: rgb(32\, 32\, 32)\; font-family: Helvetica\;">\, along with a selection of unique collectibles. You&rsquo\;ll also find works from other talented artists on display\, including a New York-based printmaker. &nbsp\;Ammy has just returned from an incredible 14-month stay in New York City\, where she studied at the prestigious Art Students League of NYC\, completing an impressive &nbsp\;860 hours of classes.&nbsp\;While there\, she participated in two art shows&mdash\;including a solo exhibit in Harlem featuring 29 pieces.&nbsp\;Another show is already in the works for this fall. &nbsp\;Stop by\, say hello\, and hear firsthand about her inspiring journey! &nbsp\;</span>
LOCATION:
UID:e.2529.35092
SEQUENCE:3
DTSTAMP:20260423T190216Z
URL:https://business.leadmethere.org/events/details/miners-tin-cup-reopening-35092
END:VEVENT

END:VCALENDAR
