BEGIN:VCALENDAR
VERSION:2.0
PRODID:-//ChamberMaster//Event Calendar 2.0//EN
METHOD:PUBLISH
X-PUBLISHED-TTL:P3D
REFRESH-INTERVAL:P3D
CALSCALE:GREGORIAN
BEGIN:VEVENT
DTSTART:20260507T200000Z
DTEND:20260507T220000Z
X-MICROSOFT-CDO-ALLDAYEVENT:FALSE
SUMMARY:LBNF/DUNE steel beam-signing
DESCRIPTION:Put your name on a piece of science history! Join us in celebrating a milestone for the LBNF/DUNE-US project! The next phase of DUNE is here\, and we want to mark the occasion by hosting a beam-signing. Sign one of the huge steel beams that will support the DUNE experiment here in Lead. Markers and light refreshments will be provided. Registration is not required\, but will help us plan for attendance: indico.fnal.gov/event/73845
X-ALT-DESC;FMTTYPE=text/html:Put your name on a piece of science history! Join us in celebrating a milestone for the LBNF/DUNE-US project! The next phase of DUNE is here\, and we want to mark the occasion by hosting a beam-signing. Sign one of the huge steel beams that will support the DUNE experiment here in Lead. Markers and light refreshments will be provided. Registration is not required\, but will help us plan for attendance: indico.fnal.gov/event/73845
LOCATION:Sanford Lab Homestake Visitor Center 160 W Main St\, Lead\, SD 57754
UID:e.2529.35090
SEQUENCE:3
DTSTAMP:20260422T163453Z
URL:https://business.leadmethere.org/events/details/lbnf-dune-steel-beam-signing-35090
END:VEVENT

END:VCALENDAR
