BEGIN:VCALENDAR
VERSION:2.0
PRODID:-//ChamberMaster//Event Calendar 2.0//EN
METHOD:PUBLISH
X-PUBLISHED-TTL:P3D
REFRESH-INTERVAL:P3D
CALSCALE:GREGORIAN
BEGIN:VEVENT
DTSTART:20260619T180000Z
DTEND:20260619T190000Z
X-MICROSOFT-CDO-ALLDAYEVENT:FALSE
SUMMARY:History on the Lawn: The Summer of 1876
DESCRIPTION:Author Chris Wimmer presents his book The Summer of 1876\, charting Deadwood's first six months and placing its early history in the context of the remarkable events shaping the nation at the same time. A book signing will follow the presentation. Bring a lunch and enjoy the Historic Adams House lawn\; 12:00 noon\; free for members and $5 for non-members. In case of rain\, the lecture will be moved to the Homestake Adams Research and Cultural Center (HARCC).
X-ALT-DESC;FMTTYPE=text/html:Author Chris Wimmer presents his book The Summer of 1876\, charting Deadwood&rsquo\;s first six months and placing its early history in the context of the remarkable events shaping the nation at the same time. A book signing will follow the presentation. Bring a lunch and enjoy the Historic Adams House lawn\; 12:00 noon\; free for members and $5 for non-members. In case of rain\, the lecture will be moved to the Homestake Adams Research and Cultural Center (HARCC).
LOCATION:Historic Adams House
UID:e.2529.35085
SEQUENCE:3
DTSTAMP:20260422T174852Z
URL:https://business.leadmethere.org/events/details/history-on-the-lawn-the-summer-of-1876-35085
END:VEVENT

END:VCALENDAR
