BEGIN:VCALENDAR
VERSION:2.0
PRODID:-//ChamberMaster//Event Calendar 2.0//EN
METHOD:PUBLISH
X-PUBLISHED-TTL:P3D
REFRESH-INTERVAL:P3D
CALSCALE:GREGORIAN
BEGIN:VEVENT
DTSTART:20260621T150000Z
DTEND:20260621T230000Z
X-MICROSOFT-CDO-ALLDAYEVENT:FALSE
SUMMARY:Father's Day Admission
DESCRIPTION:Celebrate Father's Day during Wild Bill Days weekend with a gift of history. Visiting dads receive free admission to the Days of '76 Museum and the Historic Adams House. Treat Dad to a day exploring the rich stories of Deadwood and the Black Hills. The Days of '76 Museum is open 9:00 a.m. to 5:00 p.m. The Historic Adams House is open 9:00 a.m. to 4:00 p.m. Please call 605-578-1657 or 605-578-3724 for more information.
X-ALT-DESC;FMTTYPE=text/html:Celebrate Father&rsquo\;s Day during Wild Bill Days weekend with a gift of history. Visiting dads receive free admission to the Days of &#39\;76 Museum and the Historic Adams House. Treat Dad to a day exploring the rich stories of Deadwood and the Black Hills. The Days&nbsp\;of &#39\;76 Museum is open 9:00 a.m. to 5:00 p.m. The Historic Adams House is open 9:00 a.m. to 4:00 p.m. Please call 605-578-1657 or 605-578-3724 for more information.
LOCATION:Days of '76 Museum
UID:e.2529.35086
SEQUENCE:3
DTSTAMP:20260422T174804Z
URL:https://business.leadmethere.org/events/details/father-s-day-admission-06-21-2026-35086
END:VEVENT

END:VCALENDAR
