BEGIN:VCALENDAR
VERSION:2.0
PRODID:-//ChamberMaster//Event Calendar 2.0//EN
METHOD:PUBLISH
X-PUBLISHED-TTL:P3D
REFRESH-INTERVAL:P3D
CALSCALE:GREGORIAN
BEGIN:VEVENT
DTSTART:20260630T190000Z
DTEND:20260630T200000Z
X-MICROSOFT-CDO-ALLDAYEVENT:FALSE
SUMMARY:Family Fun Tuesdays
DESCRIPTION:Deadwood History\, Inc. (DHI) hosts free\, family-friendly youth programs on Tuesday afternoons this summer at Outlaw Square. Kids can dig\, discover\, and uncover history through hands-on adventures designed to spark curiosity and fun. The series wraps up June 30 with Nature Rubbings\, where children grab crayons and head out to create art inspired by the natural world. Join us from 1:00 to 2:00 p.m. for these exciting summer adventures!
X-ALT-DESC;FMTTYPE=text/html:Deadwood History\, Inc. (DHI) hosts free\, family-friendly youth programs on Tuesday afternoons this summer at Outlaw Square. Kids can dig\, discover\, and uncover history through hands-on adventures designed to spark curiosity and fun. The series wraps up June 30 with Nature Rubbings\, where children grab crayons and head out to create art inspired by the natural world. Join us from 1:00 to 2:00 p.m. for these exciting summer adventures!
LOCATION:Outlaw Square
UID:e.2529.35082
SEQUENCE:3
DTSTAMP:20260422T174804Z
URL:https://business.leadmethere.org/events/details/family-fun-tuesdays-06-30-2026-35082
END:VEVENT

END:VCALENDAR
